Workbook

Sheet CPs
A1: Nº do CP | B1: Obra | C1: Cliente | D1: Data da concretagem | E1: NF / caminhão | F1: Traço / referência | G1: fck de projeto (MPa) | H1: Data de moldagem | I1: Idade (dias) | J1: Idade de controle? | K1: Data prevista do ensaio | L1: Data do ensaio | M1: Diâmetro (mm) | N1: Altura (mm) | O1: Carga de ruptura (kN) | P1: Resistência (MPa) | Q1: Situação | R1: Atende fck? | S1: Prensa / operador | T1: Observações
A2: 0001/26 | B2: Residencial Alto da Serra | C2: Construtora Exemplo | D2: 46283 | E2: NF 4521 · ABC-1D23 | F2: T-30 (fck 30) | G2: 30 | H2: 46283 | I2: 7 | J2: Não | K2: =IF(H2="","",H2+I2) -> 46290 | L2: 46290 | M2: 100 | N2: 200 | O2: 190.5 | P2: =IF(OR(O2="",M2=""),"",ROUND(O2*1000/(PI()*(M2/2)^2),1)) -> 24.3 | Q2: =IF(A2="","",IF(L2<>"","Rompido",IF(K2="","",IF(TODAY()>K2,"Atrasado",IF(TODAY()=K2,"Hoje","Previsto"))))) -> Rompido | R2: =IF(OR(P2="",G2=""),"",IF(J2<>"Sim","Acompanhamento",IF(P2>=G2,"Sim","Não"))) -> Acompanhamento | S2: Prensa 01 · J. Silva
A3: 0002/26 | B3: Residencial Alto da Serra | C3: Construtora Exemplo | D3: 46283 | E3: NF 4521 · ABC-1D23 | F3: T-30 (fck 30) | G3: 30 | H3: 46283 | I3: 7 | J3: Não | K3: =IF(H3="","",H3+I3) -> 46290 | L3: 46290 | M3: 100 | N3: 200 | O3: 186 | P3: =IF(OR(O3="",M3=""),"",ROUND(O3*1000/(PI()*(M3/2)^2),1)) -> 23.7 | Q3: =IF(A3="","",IF(L3<>"","Rompido",IF(K3="","",IF(TODAY()>K3,"Atrasado",IF(TODAY()=K3,"Hoje","Previsto"))))) -> Rompido | R3: =IF(OR(P3="",G3=""),"",IF(J3<>"Sim","Acompanhamento",IF(P3>=G3,"Sim","Não"))) -> Acompanhamento | S3: Prensa 01 · J. Silva
A4: 0003/26 | B4: Residencial Alto da Serra | C4: Construtora Exemplo | D4: 46283 | E4: NF 4521 · ABC-1D23 | F4: T-30 (fck 30) | G4: 30 | H4: 46283 | I4: 28 | J4: Sim | K4: =IF(H4="","",H4+I4) -> 46311 | L4: 46311 | M4: 100 | N4: 200 | O4: 268.2 | P4: =IF(OR(O4="",M4=""),"",ROUND(O4*1000/(PI()*(M4/2)^2),1)) -> 34.1 | Q4: =IF(A4="","",IF(L4<>"","Rompido",IF(K4="","",IF(TODAY()>K4,"Atrasado",IF(TODAY()=K4,"Hoje","Previsto"))))) -> Rompido | R4: =IF(OR(P4="",G4=""),"",IF(J4<>"Sim","Acompanhamento",IF(P4>=G4,"Sim","Não"))) -> Sim | S4: Prensa 01 · J. Silva
A5: 0004/26 | B5: Residencial Alto da Serra | C5: Construtora Exemplo | D5: 46283 | E5: NF 4521 · ABC-1D23 | F5: T-30 (fck 30) | G5: 30 | H5: 46283 | I5: 28 | J5: Sim | K5: =IF(H5="","",H5+I5) -> 46311 | M5: 100 | N5: 200 | P5: =IF(OR(O5="",M5=""),"",ROUND(O5*1000/(PI()*(M5/2)^2),1)) | Q5: =IF(A5="","",IF(L5<>"","Rompido",IF(K5="","",IF(TODAY()>K5,"Atrasado",IF(TODAY()=K5,"Hoje","Previsto"))))) -> Hoje | R5: =IF(OR(P5="",G5=""),"",IF(J5<>"Sim","Acompanhamento",IF(P5>=G5,"Sim","Não"))) | T5: Aguardando ensaio do par
A6: 0005/26 | B6: Galpão Logístico Norte | C6: Indústria Exemplo | D6: 46275 | E6: NF 788 · DEF-4G56 | F6: T-25 (fck 25) | G6: 25 | H6: 46275 | I6: 28 | J6: Sim | K6: =IF(H6="","",H6+I6) -> 46303 | M6: 100 | N6: 200 | P6: =IF(OR(O6="",M6=""),"",ROUND(O6*1000/(PI()*(M6/2)^2),1)) | Q6: =IF(A6="","",IF(L6<>"","Rompido",IF(K6="","",IF(TODAY()>K6,"Atrasado",IF(TODAY()=K6,"Hoje","Previsto"))))) -> Atrasado | R6: =IF(OR(P6="",G6=""),"",IF(J6<>"Sim","Acompanhamento",IF(P6>=G6,"Sim","Não"))) | T6: Verificar: data prevista já passou
K7: =IF(H7="","",H7+I7) | P7: =IF(OR(O7="",M7=""),"",ROUND(O7*1000/(PI()*(M7/2)^2),1)) | Q7: =IF(A7="","",IF(L7<>"","Rompido",IF(K7="","",IF(TODAY()>K7,"Atrasado",IF(TODAY()=K7,"Hoje","Previsto"))))) | R7: =IF(OR(P7="",G7=""),"",IF(J7<>"Sim","Acompanhamento",IF(P7>=G7,"Sim","Não")))
K8: =IF(H8="","",H8+I8) | P8: =IF(OR(O8="",M8=""),"",ROUND(O8*1000/(PI()*(M8/2)^2),1)) | Q8: =IF(A8="","",IF(L8<>"","Rompido",IF(K8="","",IF(TODAY()>K8,"Atrasado",IF(TODAY()=K8,"Hoje","Previsto"))))) | R8: =IF(OR(P8="",G8=""),"",IF(J8<>"Sim","Acompanhamento",IF(P8>=G8,"Sim","Não")))
K9: =IF(H9="","",H9+I9) | P9: =IF(OR(O9="",M9=""),"",ROUND(O9*1000/(PI()*(M9/2)^2),1)) | Q9: =IF(A9="","",IF(L9<>"","Rompido",IF(K9="","",IF(TODAY()>K9,"Atrasado",IF(TODAY()=K9,"Hoje","Previsto"))))) | R9: =IF(OR(P9="",G9=""),"",IF(J9<>"Sim","Acompanhamento",IF(P9>=G9,"Sim","Não")))
K10: =IF(H10="","",H10+I10) | P10: =IF(OR(O10="",M10=""),"",ROUND(O10*1000/(PI()*(M10/2)^2),1)) | Q10: =IF(A10="","",IF(L10<>"","Rompido",IF(K10="","",IF(TODAY()>K10,"Atrasado",IF(TODAY()=K10,"Hoje","Previsto"))))) | R10: =IF(OR(P10="",G10=""),"",IF(J10<>"Sim","Acompanhamento",IF(P10>=G10,"Sim","Não")))
K11: =IF(H11="","",H11+I11) | P11: =IF(OR(O11="",M11=""),"",ROUND(O11*1000/(PI()*(M11/2)^2),1)) | Q11: =IF(A11="","",IF(L11<>"","Rompido",IF(K11="","",IF(TODAY()>K11,"Atrasado",IF(TODAY()=K11,"Hoje","Previsto"))))) | R11: =IF(OR(P11="",G11=""),"",IF(J11<>"Sim","Acompanhamento",IF(P11>=G11,"Sim","Não")))
K12: =IF(H12="","",H12+I12) | P12: =IF(OR(O12="",M12=""),"",ROUND(O12*1000/(PI()*(M12/2)^2),1)) | Q12: =IF(A12="","",IF(L12<>"","Rompido",IF(K12="","",IF(TODAY()>K12,"Atrasado",IF(TODAY()=K12,"Hoje","Previsto"))))) | R12: =IF(OR(P12="",G12=""),"",IF(J12<>"Sim","Acompanhamento",IF(P12>=G12,"Sim","Não")))
K13: =IF(H13="","",H13+I13) | P13: =IF(OR(O13="",M13=""),"",ROUND(O13*1000/(PI()*(M13/2)^2),1)) | Q13: =IF(A13="","",IF(L13<>"","Rompido",IF(K13="","",IF(TODAY()>K13,"Atrasado",IF(TODAY()=K13,"Hoje","Previsto"))))) | R13: =IF(OR(P13="",G13=""),"",IF(J13<>"Sim","Acompanhamento",IF(P13>=G13,"Sim","Não")))
K14: =IF(H14="","",H14+I14) | P14: =IF(OR(O14="",M14=""),"",ROUND(O14*1000/(PI()*(M14/2)^2),1)) | Q14: =IF(A14="","",IF(L14<>"","Rompido",IF(K14="","",IF(TODAY()>K14,"Atrasado",IF(TODAY()=K14,"Hoje","Previsto"))))) | R14: =IF(OR(P14="",G14=""),"",IF(J14<>"Sim","Acompanhamento",IF(P14>=G14,"Sim","Não")))
K15: =IF(H15="","",H15+I15) | P15: =IF(OR(O15="",M15=""),"",ROUND(O15*1000/(PI()*(M15/2)^2),1)) | Q15: =IF(A15="","",IF(L15<>"","Rompido",IF(K15="","",IF(TODAY()>K15,"Atrasado",IF(TODAY()=K15,"Hoje","Previsto"))))) | R15: =IF(OR(P15="",G15=""),"",IF(J15<>"Sim","Acompanhamento",IF(P15>=G15,"Sim","Não")))
K16: =IF(H16="","",H16+I16) | P16: =IF(OR(O16="",M16=""),"",ROUND(O16*1000/(PI()*(M16/2)^2),1)) | Q16: =IF(A16="","",IF(L16<>"","Rompido",IF(K16="","",IF(TODAY()>K16,"Atrasado",IF(TODAY()=K16,"Hoje","Previsto"))))) | R16: =IF(OR(P16="",G16=""),"",IF(J16<>"Sim","Acompanhamento",IF(P16>=G16,"Sim","Não")))
K17: =IF(H17="","",H17+I17) | P17: =IF(OR(O17="",M17=""),"",ROUND(O17*1000/(PI()*(M17/2)^2),1)) | Q17: =IF(A17="","",IF(L17<>"","Rompido",IF(K17="","",IF(TODAY()>K17,"Atrasado",IF(TODAY()=K17,"Hoje","Previsto"))))) | R17: =IF(OR(P17="",G17=""),"",IF(J17<>"Sim","Acompanhamento",IF(P17>=G17,"Sim","Não")))
K18: =IF(H18="","",H18+I18) | P18: =IF(OR(O18="",M18=""),"",ROUND(O18*1000/(PI()*(M18/2)^2),1)) | Q18: =IF(A18="","",IF(L18<>"","Rompido",IF(K18="","",IF(TODAY()>K18,"Atrasado",IF(TODAY()=K18,"Hoje","Previsto"))))) | R18: =IF(OR(P18="",G18=""),"",IF(J18<>"Sim","Acompanhamento",IF(P18>=G18,"Sim","Não")))
... K400: =IF(H400="","",H400+I400) | P400: =IF(OR(O400="",M400=""),"",ROUND(O400*1000/(PI()*(M400/2)^2),1)) | Q400: =IF(A400="","",IF(L400<>"","Rompido",IF(K400="","",IF(TODAY()>K400,"Atrasado",IF(TODAY()=K400,"Hoje","Previsto"))))) | R400: =IF(OR(P400="",G400=""),"",IF(J400<>"Sim","Acompanhamento",IF(P400>=G400,"Sim","Não")))

Sheet Agenda
A1: Agenda de rompimentos — resumo
A2: Atualiza sozinho a partir da aba CPs. Data de referência: | B2: =TODAY() -> 46311
A4: CPs cadastrados | B4: =COUNTA(CPs!A2:A400) -> 5
A5: Previstos para hoje | B5: =COUNTIF(CPs!Q2:Q400,"Hoje") -> 1
A6: Atrasados (data prevista ultrapassada, sem ensaio) | B6: =COUNTIF(CPs!Q2:Q400,"Atrasado") -> 1
A7: Previstos (data futura) | B7: =COUNTIF(CPs!Q2:Q400,"Previsto") -> 0
A8: Rompidos | B8: =COUNTIF(CPs!Q2:Q400,"Rompido") -> 3
A9: Rompidos na idade de controle que não atendem o fck | B9: =COUNTIF(CPs!R2:R400,"Não") -> 0
A10: Próximos 7 dias (previstos) | B10: =COUNTIFS(CPs!K2:K400,">"&TODAY(),CPs!K2:K400,"<="&TODAY()+7,CPs!L2:L400,"") -> 0
A13: Por idade (CPs ainda não rompidos)
A14: 3 dias | B14: =COUNTIFS(CPs!I2:I400,3,CPs!L2:L400,"") -> 0
A15: 7 dias | B15: =COUNTIFS(CPs!I2:I400,7,CPs!L2:L400,"") -> 0
A16: 14 dias | B16: =COUNTIFS(CPs!I2:I400,14,CPs!L2:L400,"") -> 0
A17: 28 dias | B17: =COUNTIFS(CPs!I2:I400,28,CPs!L2:L400,"") -> 2
A18: 63 dias | B18: =COUNTIFS(CPs!I2:I400,63,CPs!L2:L400,"") -> 0

Sheet Instruções
A1: Planilha de controle de corpos de prova — modelo gratuito Concresoft
A2: Como usar
A3: 1. Preencha apenas as células amarelas da aba CPs (uma linha por corpo de prova). As células azuis são calculadas.
A4: 2. Nº do CP: use a numeração do laboratório e escreva o mesmo número na etiqueta do CP.
A5: 3. Idade (dias) e Idade de controle?: marque "Sim" na idade de aceitação do traço (em geral 28 dias). Idades menores são acompanhamento.
A6: 4. Data prevista do ensaio = data de moldagem + idade. A Situação muda para Hoje, Atrasado, Previsto ou Rompido conforme a data do ensaio é preenchida.
A7: 5. Resistência (MPa) = carga (kN) × 1000 ÷ área da seção (mm²), para CP cilíndrico, com as dimensões medidas informadas.
A8: 6. A aba Agenda resume a fila do dia, os atrasados e os resultados que não atendem o fck na idade de controle.
A9: Limites deste modelo
A10: A planilha organiza a fila e a conferência; não substitui o procedimento de ensaio, a aceitação formal do concreto nem a responsabilidade técnica. Para rastreabilidade por QR Code, laudos com revisão e portal do cliente, conheça a Concresoft em concresoft.com.br.
A11: As cinco primeiras linhas são exemplos fictícios para mostrar o formato esperado: apague-as antes de usar.
